BEGIN:VCALENDAR

VERSION:2.0

PRODID:-//hacksw/handcal//NONSGML v1.0//EN

BEGIN:VEVENT

UID:1598ec799fdfc6b60550a4ecf6afdb59

DTSTAMP:20260424T134519Z

DTSTART:20260426T113000

DTEND:20260426T120000

SUMMARY:L40460449 - 6/15 Mayfield Road, CARINA QLD 4152

LOCATION:6/15 Mayfield Road, CARINA QLD 4152

END:VEVENT

END:VCALENDAR