BEGIN:VCALENDAR

VERSION:2.0

PRODID:-//hacksw/handcal//NONSGML v1.0//EN

BEGIN:VEVENT

UID:79f9e2346215170155f1ccc483395700

DTSTAMP:20260420T133932Z

DTSTART:20260422T000000

DTEND:20260422T000000

SUMMARY:L39928755 - 11 Lichfield Street, CARINA QLD 4152

LOCATION:11 Lichfield Street, CARINA QLD 4152

END:VEVENT

END:VCALENDAR